BEGIN:VCALENDAR
VERSION:2.0
PRODID:-//www.saudiarabiacoatingsshow.com//NONSGML Reminder: Saudi Arabia Coatings Show is coming up//EN
METHOD:REQUEST
BEGIN:VEVENT
UID:20260421T121850-1976401783-calendar_event
DTSTAMP:20260421T121850Z
DTSTART:20270531T100000
DTEND:20270602T150000
LOCATION:Riyadh International Conference & Exhibition Centre, Saudi Arabia
SUMMARY:Reminder: Saudi Arabia Coatings Show is coming up
DESCRIPTION:The Saudi Arabia Coatings Show is the only dedicated coatings trade exhibition in the Kingdom of Saudi Arabia that will bring together companies from all sectors of the coatings community to meet face-to-face and do business.
BEGIN:VALARM
TRIGGER:PT1W
ACTION:DISPLAY
DESCRIPTION:Reminder
END:VALARM
END:VEVENT
END:VCALENDAR
